BEGIN:VCALENDAR
VERSION:2.0
PRODID:-//Coopérative Endémik - ECPv6.15.20//NONSGML v1.0//EN
CALSCALE:GREGORIAN
METHOD:PUBLISH
X-WR-CALNAME:Coopérative Endémik
X-ORIGINAL-URL:https://endemik.ch
X-WR-CALDESC:Évènements pour Coopérative Endémik
REFRESH-INTERVAL;VALUE=DURATION:PT1H
X-Robots-Tag:noindex
X-PUBLISHED-TTL:PT1H
BEGIN:VTIMEZONE
TZID:Europe/Zurich
BEGIN:DAYLIGHT
TZOFFSETFROM:+0100
TZOFFSETTO:+0200
TZNAME:CEST
DTSTART:20210328T010000
END:DAYLIGHT
BEGIN:STANDARD
TZOFFSETFROM:+0200
TZOFFSETTO:+0100
TZNAME:CET
DTSTART:20211031T010000
END:STANDARD
BEGIN:DAYLIGHT
TZOFFSETFROM:+0100
TZOFFSETTO:+0200
TZNAME:CEST
DTSTART:20220327T010000
END:DAYLIGHT
BEGIN:STANDARD
TZOFFSETFROM:+0200
TZOFFSETTO:+0100
TZNAME:CET
DTSTART:20221030T010000
END:STANDARD
BEGIN:DAYLIGHT
TZOFFSETFROM:+0100
TZOFFSETTO:+0200
TZNAME:CEST
DTSTART:20230326T010000
END:DAYLIGHT
BEGIN:STANDARD
TZOFFSETFROM:+0200
TZOFFSETTO:+0100
TZNAME:CET
DTSTART:20231029T010000
END:STANDARD
BEGIN:DAYLIGHT
TZOFFSETFROM:+0100
TZOFFSETTO:+0200
TZNAME:CEST
DTSTART:20240331T010000
END:DAYLIGHT
BEGIN:STANDARD
TZOFFSETFROM:+0200
TZOFFSETTO:+0100
TZNAME:CET
DTSTART:20241027T010000
END:STANDARD
BEGIN:DAYLIGHT
TZOFFSETFROM:+0100
TZOFFSETTO:+0200
TZNAME:CEST
DTSTART:20250330T010000
END:DAYLIGHT
BEGIN:STANDARD
TZOFFSETFROM:+0200
TZOFFSETTO:+0100
TZNAME:CET
DTSTART:20251026T010000
END:STANDARD
BEGIN:DAYLIGHT
TZOFFSETFROM:+0100
TZOFFSETTO:+0200
TZNAME:CEST
DTSTART:20260329T010000
END:DAYLIGHT
BEGIN:STANDARD
TZOFFSETFROM:+0200
TZOFFSETTO:+0100
TZNAME:CET
DTSTART:20261025T010000
END:STANDARD
END:VTIMEZONE
BEGIN:VTIMEZONE
TZID:UTC
BEGIN:STANDARD
TZOFFSETFROM:+0000
TZOFFSETTO:+0000
TZNAME:UTC
DTSTART:20210101T000000
END:STANDARD
END:VTIMEZONE
BEGIN:VEVENT
DTSTART;TZID=Europe/Zurich:20251210T200000
DTEND;TZID=Europe/Zurich:20251210T210000
DTSTAMP:20260425T002357
CREATED:20251108T200741Z
LAST-MODIFIED:20251117T201443Z
UID:5548-1765396800-1765400400@endemik.ch
SUMMARY:Assemblée générale de dissolution (en format hybride\, en présentiel et en ligne )
DESCRIPTION:Assemblée générale de dissolution de la coopérative\, cette AG est publique\, mais seuls les coopératrices et coopérateurs auront le droit de vote.\nLe comité actuel propose de dissoudre la “coopérative Endémik” et de intégrer “Endémik” au mouvement citoyen Hautemorges en transition\, cette démarche permettra de poursuivre l’objectif Endémik en smimplifiant la gestion administrative et en réduisant les frais très importans que la novuelle loi sur les coopératives nous impose depuis 2023. \nL’adresse exacte et le lien pour la conférence seront transmis au plus tard 10 jours avant l’AG aux inscrit(e)s. \n  \n\n	Remarque : JavaScript est requis pour ce contenu.
URL:https://endemik.ch/event/assemblee-generale-q4-25/
LOCATION:En ligne
CATEGORIES:event-publique
END:VEVENT
BEGIN:VEVENT
DTSTART;TZID=Europe/Zurich:20251120T193000
DTEND;TZID=Europe/Zurich:20251120T210000
DTSTAMP:20260425T002357
CREATED:20251013T121234Z
LAST-MODIFIED:20251013T121412Z
UID:5534-1763667000-1763672400@endemik.ch
SUMMARY:projection du film «Irremplaçables épiceries!» - par Ciné-Club "Hautemorges en Transition"
DESCRIPTION:Réalisé par Jacques Mirenowicz\, le film « Irremplaçables épiceries ! » (47 minutes) met en lumière le fonctionnement d’épiceries alternatives en Suisse romande. Ces commerces s’approvisionnent auprès de fermes en agroécologie et d’ateliers de transformation artisanaux. Ils garantissent la transparence sur leurs marges\, évitent le gaspillage alimentaire\, limitent les emballages\, assurent un contact privilégié avec la clientèle et sont en phase avec l’agriculture paysanne. \nLa projection aura lieu à 19h30 et sera suivie d’une discussion avec plusieurs invités :\n \n\nVictor Bovy\, coopérative de producteurs DorignoL\nCarole Richardet\, c’est Patou\nOriane Novello\, Fromagerie Kämpf\nSonia et Sefora\, la maison du vrac\nUniterre\nainsi que les épiceries de la région\n\nConsommations au bar de l’Embrasure. \nEntrée libre\, participation volontaire (chapeau) et inscription obligatoire : Ciné-Club : projection du film «Irremplaçables épiceries!» – Hautemorges en Transition
URL:https://endemik.ch/event/projection-du-film-irremplacables-epiceries-par-cine-club-hautemorges-en-transition/
CATEGORIES:event-publique
END:VEVENT
BEGIN:VEVENT
DTSTART;TZID=Europe/Zurich:20250324T200000
DTEND;TZID=Europe/Zurich:20250324T213000
DTSTAMP:20260425T002357
CREATED:20250203T210410Z
LAST-MODIFIED:20250207T124144Z
UID:5503-1742846400-1742851800@endemik.ch
SUMMARY:Assemblée générale 2025
DESCRIPTION:Les buts sociaux de la Coopérative consistent à favoriser\, par une action commune\, les intérêts économiques\, écologiques et sociaux des coopératrices et coopérateurs par la création et l’exploitation d’au moins un local de distribution de produits alimentaires et non-alimentaires achetés en commun et produits dans le respect de la nature\, idéalement biologiquement\, localement et sans emballage. \nLe projet épicerie est en cours de construction. Vous êtes intéressé à devenir coopérateur ou à nous soutenir en tant que bénévole ? Participez à notre prochaine AG. \nCet événement est ouvert à tous\, mais seuls les coopérateurs auront le droit de vote. \nLe lieu exact ainsi que l’ordre du jour seront communiqués au plus tard 20 jours avant l’assemblée par courriel aux inscrits et à tous les coopérateurs \nMerci de vous inscrire par le formulaire ci-dessous : \n\n	Remarque : JavaScript est requis pour ce contenu.
URL:https://endemik.ch/event/assemblee-generale-2025/
LOCATION:Cottens
END:VEVENT
BEGIN:VEVENT
DTSTART;TZID=Europe/Zurich:20241105T200000
DTEND;TZID=Europe/Zurich:20241105T210000
DTSTAMP:20260425T002357
CREATED:20241013T200659Z
LAST-MODIFIED:20241013T200659Z
UID:5487-1730836800-1730840400@endemik.ch
SUMMARY:Assemblée Générale extraordinaire
DESCRIPTION:Assemblée Générale extraordinaire. Cet événement est ouvert à tous\, mais seuls les coopérateurs auront le droit de vote. \nMerci de vous inscrire par le formulaire ci-dessous : \n\n	Remarque : JavaScript est requis pour ce contenu.
URL:https://endemik.ch/event/assemblee-generale-extraordinaire/
LOCATION:Ancien Stand de tir à Pampigny\, 46.574169\, 6.425032\, Pampigny\, 1142
CATEGORIES:event-publique
ATTACH;FMTTYPE=image/png:https://endemik.ch/wp-content/uploads/2022/05/endemik_logo_CS_190x48.png
END:VEVENT
BEGIN:VEVENT
DTSTART;TZID=Europe/Zurich:20240110T193000
DTEND;TZID=Europe/Zurich:20240110T213000
DTSTAMP:20260425T002357
CREATED:20231219T063132Z
LAST-MODIFIED:20231219T063252Z
UID:5477-1704915000-1704922200@endemik.ch
SUMMARY:Séance extraordinaire des coopérateurs\, coopératrices et bénévoles
DESCRIPTION:
URL:https://endemik.ch/event/seance-extraordinaire-des-cooperateur-cooperatrices-et-benevoles/
LOCATION:Salle du Conseil communal d’Apples\, chemin des Collèges 5\, Apples\, 1143
END:VEVENT
BEGIN:VEVENT
DTSTART;TZID=Europe/Zurich:20231115T160000
DTEND;TZID=Europe/Zurich:20231115T190000
DTSTAMP:20260425T002357
CREATED:20230405T150827Z
LAST-MODIFIED:20231110T145758Z
UID:5293-1700064000-1700074800@endemik.ch
SUMMARY:... commandes printemps 2024 - date à déterminer.
DESCRIPTION:  \n 
URL:https://endemik.ch/event/retrait-de-vos-commandes-les-9-et-10-juin-2023/
LOCATION:Ferme des Savanes – 1143 Apples\, Rte de Cottens 2\, Apples\, 1143
END:VEVENT
BEGIN:VEVENT
DTSTART;TZID=Europe/Zurich:20231115T080000
DTEND;TZID=Europe/Zurich:20231115T170000
DTSTAMP:20260425T002357
CREATED:20230820T052323Z
LAST-MODIFIED:20231110T145820Z
UID:5431-1700035200-1700067600@endemik.ch
SUMMARY:Prochaines commandes reportée au printemps 2024
DESCRIPTION:Bonjour\, \nLe comité Endemik a pris la décision de reporter la prochaine commande au printemps 2024 afin de refonder le cercle achat autour d’un cahier de charges précis et de principes facilement applicables. \nL’évaluation et le choix des fournisseurs ainsi que de leurs produits permettra d’obtenir une diversité et une qualité de produits se rapprochant au maximum des souhaits des coopérateurs. \nNous vous remercions pour votre compréhension et vous souhaitons d’excellentes fêtes de fin d’année. \nLe comité
URL:https://endemik.ch/event/prochaines-commandes-du-3-au-13-octobre-2023/
END:VEVENT
BEGIN:VEVENT
DTSTART;TZID=Europe/Zurich:20231114T193000
DTEND;TZID=Europe/Zurich:20231114T210000
DTSTAMP:20260425T002357
CREATED:20230405T141832Z
LAST-MODIFIED:20231110T150518Z
UID:5276-1699990200-1699995600@endemik.ch
SUMMARY:Séance bénévoles / coopérateur.trice.s : le 14 novembre 2023 à 19h30
DESCRIPTION:Bonjour ! \nProchaine séance le mardi 14 novembre 2023 à 19h30. \nA la Ferme des Savanes \nA très bientôt. \n\n	Remarque : JavaScript est requis pour ce contenu.
URL:https://endemik.ch/event/seance-benevoles-cooperateur-trice-s/
END:VEVENT
BEGIN:VEVENT
DTSTART;TZID=Europe/Zurich:20230810T000000
DTEND;TZID=Europe/Zurich:20230818T235900
DTSTAMP:20260425T002357
CREATED:20230405T144444Z
LAST-MODIFIED:20230802T145536Z
UID:5283-1691625600-1692403140@endemik.ch
SUMMARY:Prochaines commandes :  du 10 au 18 août 2023
DESCRIPTION:Vous pourrez passer vos commandes du 10 au 18 août 2023.\nVous pourrez retirer vos commandes les 1er et 2 septembre 2023.\nAvec nos chaleureux remerciements.
URL:https://endemik.ch/event/ouverture-de-la-commande/
END:VEVENT
BEGIN:VEVENT
DTSTART;TZID=Europe/Zurich:20230403T190000
DTEND;TZID=Europe/Zurich:20230403T210000
DTSTAMP:20260425T002357
CREATED:20230117T230141Z
LAST-MODIFIED:20230117T230625Z
UID:5226-1680548400-1680555600@endemik.ch
SUMMARY:Réunion bénévoles et coopérateurs Endémik
DESCRIPTION:Pour faire avancer le projet épicerie\, nous avons besoin de toi. Tu as envie de t’investir et de donner un peu de ton temps ? Rejoins-nous. Durant cette réunion\, nous allons travailler en groupes pour les différents sous-projets\, tu pourras choisir ton groupe selon tes compétences : \n\nGroupe Vélo Cargo/ Epicerie Mobile\nGroupe Partenaires et achats\, achat groupé\nGroupe Coopérateur.trice.s: planning bénévolat et manuel\nGroupe Finances\, compta et recherche de fonds\nGroupe Communication\nGroupe « local » ou espace de vente\n\nMerci de ton inscription : \n\n\n	Remarque : JavaScript est requis pour ce contenu.
URL:https://endemik.ch/event/reunion-benevoles-et-cooperateurs-endemik-3/
LOCATION:Sévery\, Grande Salle\, Sévery
END:VEVENT
BEGIN:VEVENT
DTSTART;TZID=Europe/Zurich:20230315T183000
DTEND;TZID=Europe/Zurich:20230315T203000
DTSTAMP:20260425T002357
CREATED:20230117T225459Z
LAST-MODIFIED:20230117T225550Z
UID:5224-1678905000-1678912200@endemik.ch
SUMMARY:Réunion bénévoles et coopérateurs Endémik
DESCRIPTION:Pour faire avancer le projet épicerie\, nous avons besoin de toi. Tu as envie de t’investir et de donner un peu de ton temps ? Rejoins-nous. Durant cette réunion\, nous allons travailler en groupes pour les différents sous-projets\, tu pourras choisir ton groupe selon tes compétences : \n\nGroupe Vélo Cargo/ Epicerie Mobile\nGroupe Partenaires et achats\, achat groupé\nGroupe Coopérateur.trice.s: planning bénévolat et manuel\nGroupe Finances\, compta et recherche de fonds\nGroupe Communication\nGroupe « local » ou espace de vente\n\nMerci de ton inscription : \n\n	Remarque : JavaScript est requis pour ce contenu.
URL:https://endemik.ch/event/reunion-benevoles-et-cooperateurs-endemik-2/
LOCATION:Salle du Conseil communal d’Apples\, chemin des Collèges 5\, Apples\, 1143
END:VEVENT
BEGIN:VEVENT
DTSTART;TZID=Europe/Zurich:20230302T193000
DTEND;TZID=Europe/Zurich:20230302T213000
DTSTAMP:20260425T002357
CREATED:20221128T222342Z
LAST-MODIFIED:20230117T224936Z
UID:5151-1677785400-1677792600@endemik.ch
SUMMARY:Assemblée Générale ordinaire 2023
DESCRIPTION:Cette Assemble Générale ordinaire est réservée aux coopératrices et coopérateurs de la société coopérative Endémik comme stipulé dans les statuts\, art. 26 et suivants.\nSi vous souhaitez devenir coopératrice ou coopérateur\, veuille remplir ce formulaire. \nSi vous souhaitez assister l’Assemblée Générale en tant que visiteur.se\, veuille nous envoyer un message. \nL’Assemblée est convoquée par l’envoi d’un courriel au moins 20 jours à l’avance. \n 
URL:https://endemik.ch/event/assemblee-generale-ordinaire-2023/
LOCATION:Salle villageoise de Bussy-Chardonney\, chemin des vignes\, Bussy-Chardonney\, 1136
END:VEVENT
BEGIN:VEVENT
DTSTART;TZID=Europe/Zurich:20230208T193000
DTEND;TZID=Europe/Zurich:20230208T213000
DTSTAMP:20260425T002357
CREATED:20221128T223804Z
LAST-MODIFIED:20230117T224511Z
UID:5153-1675884600-1675891800@endemik.ch
SUMMARY:Réunion bénévoles et coopérateurs Endémik
DESCRIPTION:Pour faire avancer le projet épicerie\, nous avons besoin de toi. Tu as envie de t’investir et de donner un peu de ton temps ? Rejoins-nous. Durant cette réunion\, nous allons travailler en groupes pour les différents sous-projets\, tu pourras choisir ton groupe selon tes compétences : \n\nGroupe Vélo Cargo/ Epicerie Mobile\nGroupe Partenaires et achats\, achat groupé\nGroupe Coopérateur.trice.s: planning bénévolat et manuel\nGroupe Finances\, compta et recherche de fonds\nGroupe Communication\nGroupe “local” ou espace de vente\n\nMerci de ton inscription : \n\n	Remarque : JavaScript est requis pour ce contenu.\n\n\n    \n\n\n        \n        \n        \nLieu : Ancien stand de tir \nCoordonnées GPS : https://goo.gl/maps/1hWSwZ34iwdDEDSj9
URL:https://endemik.ch/event/08022023benevoles/
LOCATION:Ancien Stand de tir à Pampigny\, 46.574169\, 6.425032\, Pampigny\, 1142
CATEGORIES:event-publique
END:VEVENT
BEGIN:VEVENT
DTSTART;TZID=Europe/Zurich:20230109T193000
DTEND;TZID=Europe/Zurich:20230109T213000
DTSTAMP:20260425T002357
CREATED:20221024T222319Z
LAST-MODIFIED:20221128T223000Z
UID:5109-1673292600-1673299800@endemik.ch
SUMMARY:Réunion bénévoles et coopérateurs Endémik
DESCRIPTION:Pour faire avancer le projet épicerie\, nous avons besoin de toi. Tu as envie de t’investir et de donner un peu de ton temps ? Rejoins-nous. Durant cette réunion\, nous allons travailler en groupes pour les différents sous-projets\, tu pourras choisir ton groupe selon tes compétences : \n\nGroupe Vélo Cargo/ Epicerie Mobile\nGroupe Partenaires et achats\, achat groupé\nGroupe Coopérateur.trice.s: planning bénévolat et manuel\nGroupe Finances\, compta et recherche de fonds\nGroupe Communication\n\nMerci de ton inscription : \n\n\n	Remarque : JavaScript est requis pour ce contenu.
URL:https://endemik.ch/event/reunion-benevoles9123/
LOCATION:Sévery\, Grande Salle\, Sévery
CATEGORIES:event-publique
END:VEVENT
BEGIN:VEVENT
DTSTART;TZID=Europe/Zurich:20221128T193000
DTEND;TZID=Europe/Zurich:20221128T213000
DTSTAMP:20260425T002357
CREATED:20221024T222139Z
LAST-MODIFIED:20221123T145238Z
UID:5107-1669663800-1669671000@endemik.ch
SUMMARY:Réunion bénévoles et coopérateurs Endémik
DESCRIPTION:Pour faire avancer le projet épicerie\, nous avons besoin de toi. Tu as envie de t’investir et de donner un peu de ton temps ? Rejoins-nous. Durant cette réunion\, nous allons travailler en groupes pour les différents sous-projets\, tu pourras choisir ton groupe selon tes compétences : \n\nGroupe Vélo Cargo/ Epicerie Mobile\nGroupe Partenaires et achats\, achat groupé\nGroupe Coopérateur.trice.s: planning bénévolat et manuel\nGroupe Finances\, compta et recherche de fonds\nGroupe Communication\n\nMerci de ton inscription : \n\n	Remarque : JavaScript est requis pour ce contenu.
URL:https://endemik.ch/event/reunion-benevoles281022/
LOCATION:Salle de Chaniaz\, Route de Chaniaz 1\, Chaniaz\, 1128
CATEGORIES:event-publique
END:VEVENT
BEGIN:VEVENT
DTSTART;TZID=Europe/Zurich:20221122T193000
DTEND;TZID=Europe/Zurich:20221122T203000
DTSTAMP:20260425T002357
CREATED:20221024T222757Z
LAST-MODIFIED:20230201T102036Z
UID:5112-1669145400-1669149000@endemik.ch
SUMMARY:Séance d’information – épicerie coopérative à Cottens
DESCRIPTION:Une Epicerie coopérative à Hautemorges Pour le développement local\, social et écologique de notre commune\, nous avons le plaisir de vous convier à la séance de présentation le 22 novembre 2022 à 19h30 à la grande salle de Cottens. Nous nous réjouissons de partager avec vous\, habitants de Cottens\, sur le projet d’épicerie coopérative participative ouverte à tous afin d’offrir des produits locaux\, respectueux de l’environnement à des prix justes à la fois pour le consommateur et le producteur. Dans l’esprit vert et Zéro Déchet\, merci de penser à prendre votre verre pour la verrée. \n\nLe Comité d’organisation \n\nNous vous attendons nombreuses et nombreux mais sommes limités dans les places\, merci de vous inscrire via le formulaire ci-après :\n\n	Remarque : JavaScript est requis pour ce contenu.
URL:https://endemik.ch/event/seance-dinformation-epicerie-cooperative-a-cottens/
LOCATION:Grande salle – Cottens\, Rte de Grancy 13\, Cottens\, Vaud\, 116
CATEGORIES:event-publique
END:VEVENT
BEGIN:VEVENT
DTSTART;TZID=Europe/Zurich:20221024T193000
DTEND;TZID=Europe/Zurich:20221024T213000
DTSTAMP:20260425T002357
CREATED:20220926T212709Z
LAST-MODIFIED:20221023T194302Z
UID:5078-1666639800-1666647000@endemik.ch
SUMMARY:Réunion bénévoles et coopérateurs Endémik
DESCRIPTION:Pour faire avancer le projet épicerie\, nous avons besoin de toi. Tu as envie de t’investir et de donner un peu de ton temps ? Rejoins-nous. Durant cette réunion\, nous allons travailler en groupes pour les différents sous-projets\, tu pourras choisir ton groupe selon tes compétences : \n\nGroupe Vélo Cargo/ Epicerie Mobile\nGroupe Partenaires et achats\, achat groupé\nGroupe Coopérateur.trice.s: planning bénévolat et manuel\nGroupe Finances\, compta et recherche de fonds\nGroupe Communication\n\nMerci de ton inscription :  \n\n	Remarque : JavaScript est requis pour ce contenu.
URL:https://endemik.ch/event/221024_reunion-benevoles/
LOCATION:Sévery\, Grande Salle\, Sévery
CATEGORIES:event-publique
END:VEVENT
BEGIN:VEVENT
DTSTART;TZID=Europe/Zurich:20220926T190000
DTEND;TZID=Europe/Zurich:20220926T210000
DTSTAMP:20260425T002357
CREATED:20220909T204212Z
LAST-MODIFIED:20220909T205529Z
UID:5051-1664218800-1664226000@endemik.ch
SUMMARY:Réunion bénévoles et coopérateurs Endémik
DESCRIPTION:Pour faire avancer le projet épicerie\, nous avons besoin de toi. Tu as envie de t’investir et de donner un peu de ton temps ? Rejoins-nous. \nDurant cette réunion\, nous allons travailler en groupes pour les différents sous-projets\, tu pourras choisir ton groupe selon tes compétences : \n\nGroupe Vélo Cargo/ Epicerie Mobile\nGroupe Partenaires et achats\nGroupe Coopérateur.trice.s: planning bénévolat et manuel\nGroupe Finances\, compta et recherche de fonds\nGroupe Communication\n\nMerci de ton inscription : \n\n	Remarque : JavaScript est requis pour ce contenu.
URL:https://endemik.ch/event/reunion-benevoles-et-cooperateurs-endemik/
END:VEVENT
BEGIN:VEVENT
DTSTART;TZID=Europe/Zurich:20220905T193000
DTEND;TZID=Europe/Zurich:20220905T203000
DTSTAMP:20260425T002357
CREATED:20220611T094916Z
LAST-MODIFIED:20220903T061145Z
UID:4988-1662406200-1662409800@endemik.ch
SUMMARY:Séance d’information – épicerie coopérative
DESCRIPTION:Une Epicerie coopérative à Hautemorges \n\nPour le développement local\, social et écologique de notre commune\, nous avons le plaisir de vous convier à la séance de présentation le 5 septembre 2022 à 19h30 (à la Ferme des Savanes à Apples). \n\nNous nous réjouissons de partager avec vous sur le projet d’épicerie coopérative participative ouverte à tous afin d’offrir des produits locaux\, respectueux de l’environnement à des prix justes à la fois pour le consommateur et le producteur. \n\nDans l’esprit vert et Zéro Déchet\, merci de penser à prendre votre verre pour la verrée. \n\n\n\n\n\nLe Comité d’organisation \n\n\n\nNous vous attendons nombreuses et nombreux mais sommes limités dans les places\, merci de vous inscrire via le formulaire ci-après : \n\n\n	Remarque : JavaScript est requis pour ce contenu.
URL:https://endemik.ch/event/220905_seanceinfo/
LOCATION:Ferme des Savanes – 1143 Apples\, Rte de Cottens 2\, Apples\, 1143
CATEGORIES:event-publique
END:VEVENT
BEGIN:VEVENT
DTSTART;TZID=UTC:20220613T193000
DTEND;TZID=UTC:20220613T203000
DTSTAMP:20260425T002357
CREATED:20220508T112321Z
LAST-MODIFIED:20220611T211233Z
UID:4881-1655148600-1655152200@endemik.ch
SUMMARY:Séance d’information – épicerie coopérative
DESCRIPTION:Une Epicerie coopérative à Hautemorges \n\n\n\n\nPour le développement local\, social et écologique de notre commune\, nous avons l’immense plaisir de vous convier à la séance de présentation le 13 juin 2022 à 19h30 à Apples à la ferme des Savanes. \n\n\n\nNous nous réjouissons de partager avec vous sur le projet d’épicerie coopérative participative ouverte à tous afin d’offrir des produits locaux\, respectueux de l’environnement à des prix justes à la fois pour le consommateur et le producteur. \n\n\n\nDans l’esprit vert et Zéro Déchet\, merci de penser à prendre votre verre pour la verrée. \n\n\n\n\n\n\n\nLe Comité d’organisation \n\n\n\n\n\nNous vous attendons nombreuses et nombreux mais sommes limités dans les places\, merci de vous inscrire via le formulaire ci-après : \n\n	Remarque : JavaScript est requis pour ce contenu.
URL:https://endemik.ch/event/220613-seance-info/
LOCATION:Ferme des Savanes – 1143 Apples\, Rte de Cottens 2\, Apples\, 1143
CATEGORIES:event-publique
END:VEVENT
BEGIN:VEVENT
DTSTART;TZID=UTC:20220512T193000
DTEND;TZID=UTC:20220512T203000
DTSTAMP:20260425T002357
CREATED:20220508T084036Z
LAST-MODIFIED:20220512T061307Z
UID:4853-1652383800-1652387400@endemik.ch
SUMMARY:Séance d’information – épicerie coopérative
DESCRIPTION:Une Epicerie coopérative à Hautemorges \n\n\n\nPour le développement local\, social et écologique de notre commune\, nous avons l’immense plaisir de vous convier à notre première séance de présentation le 12 mai 2022 à 19h30 à Apples. \n\n\n\nNous nous réjouissons de partager avec vous sur le projet d’épicerie coopérative participative ouverte à tous afin d’offrir des produits locaux\, respectueux de l’environnement à des prix justes à la fois pour le consommateur et le producteur. \n\n\n\nDans l’esprit vert et Zéro Déchet\, merci de penser à prendre votre verre pour la verrée. \n\n\n\n\n\n\n\nLe Comité d’organisation \n\n\n\n\n\nNous vous attendons nombreuses et nombreux mais sommes limités dans les places\, merci de vous inscrire via le formulaire ci-après : \n\n\n\nPrenez une boîte (en verre\, plastique ou métal) et un sachet en tissu avec vous\, une petite surprise vous attend. \n\n\n\n	Remarque : JavaScript est requis pour ce contenu.
URL:https://endemik.ch/event/220512-seance-info/
LOCATION:Salle du Conseil communal d’Apples\, chemin des Collèges 5\, Apples\, 1143
CATEGORIES:event-publique
ATTACH;FMTTYPE=image/jpeg:https://endemik.ch/wp-content/uploads/2022/05/bag_apples.jpg
END:VEVENT
END:VCALENDAR